BEGIN:VCALENDAR
VERSION:2.0
PRODID:-//destination.one//NONSGML destination.meta API//DE
X-WR-CALDESC:A calendar powered by destination.meta
X-WR-CALNAME:mittelweser-tourismus Kalender via destination.meta
BEGIN:VEVENT
CATEGORIES:Musik sonstige
DESCRIPTION:Lissi & Herr Timpe entführen das Publikum in ihrem neuen Progra
 mm wieder in Peter Alexanders „Kleine Kneipe“\, aber man sollte sich nicht
  wundern\, wenn dort bereits „Lilli Marleen“ auf „das schöne Mädchen\, von
  Seite 1“ wartet.\n\nmehr Informationen unter http://pages.destination.one
 /de/mittelweser-tourismus/streaming/detail/Event/e_101222161/du-geh-rst-zu
 -mir-die-sch-nsten-schlager-aller-zeiten
DTEND;TZID=Europe/Berlin:20260417T213000
DTSTAMP:20260421T094226Z
DTSTART;TZID=Europe/Berlin:20260417T193000
GEO:52.474265;9.228301
LOCATION:Raths-Keller Rehburg\, Heidtorstr. 1\, Rehburg-Loccum
ORGANIZER;CN=Seniorenbeirat Stadt Rehburg-Loccum :https://www.rehburg-loccu
 m.de/leben-in-rehburg-loccum/senior-innen/
SEQUENCE:0
SUMMARY:„DU GEHÖRST ZU MIR - DIE SCHÖNSTEN SCHLAGER ALLER ZEITEN“
UID:e_101222161_iv0
URL:http://pages.destination.one/de/mittelweser-tourismus/streaming/detail/
 Event/e_101222161/du-geh-rst-zu-mir-die-sch-nsten-schlager-aller-zeiten
END:VEVENT
BEGIN:VTIMEZONE
TZID:Europe/Berlin
X-LIC-LOCATION:Europe/Berlin
BEGIN:DAYLIGHT
DTSTART:19700329T020000
RRULE:FREQ=YEARLY;BYDAY=-1SU;BYMONTH=3
TZNAME:CEST
TZOFFSETFROM:+0100
TZOFFSETTO:+0200
END:DAYLIGHT
BEGIN:STANDARD
DTSTART:19701025T030000
RRULE:FREQ=YEARLY;BYDAY=-1SU;BYMONTH=10
TZNAME:CET
TZOFFSETFROM:+0200
TZOFFSETTO:+0100
END:STANDARD
END:VTIMEZONE
END:VCALENDAR
