BEGIN:VCALENDAR
VERSION:2.0
PRODID:-//destination.one//NONSGML destination.meta API//DE
X-WR-CALDESC:A calendar powered by destination.meta
X-WR-CALNAME:mittelweser-tourismus Kalender via destination.meta
BEGIN:VEVENT
CATEGORIES:Gottesdienst
DESCRIPTION:Motor aus. Kopf frei. Herz an.\nWillkommen sind Motorradfahreri
 nnen und Motorradfahrer ebenso wie alle\, die Lust auf einen besonderen Go
 ttesdienst haben - ganz unabhängig davon\, ob sie selbst ein Motorrad fahr
 en oder nicht.\n\nmehr Informationen unter http://pages.destination.one/de
 /mittelweser-tourismus/streaming/detail/Event/e_101222160/biker-gottesdien
 st-in-der-friederikenkapelle-in-bad-rehburg
DTEND;TZID=Europe/Berlin:20260509T120000
DTSTAMP:20260421T094340Z
DTSTART;TZID=Europe/Berlin:20260509T110000
GEO:52.437163;9.214160
LOCATION:Friederikenkapelle Bad Rehburg\, Friedrich-Stolberg-Allee 4\, Rehb
 urg-Loccum
ORGANIZER;CN=Frau Klein:mailto:michaelaklein-cdu@gmx.de
SEQUENCE:0
SUMMARY:Biker-Gottesdienst in der Friederikenkapelle in Bad Rehburg
UID:e_101222160_iv0
URL:http://pages.destination.one/de/mittelweser-tourismus/streaming/detail/
 Event/e_101222160/biker-gottesdienst-in-der-friederikenkapelle-in-bad-rehb
 urg
END:VEVENT
BEGIN:VTIMEZONE
TZID:Europe/Berlin
X-LIC-LOCATION:Europe/Berlin
BEGIN:DAYLIGHT
DTSTART:19700329T020000
RRULE:FREQ=YEARLY;BYDAY=-1SU;BYMONTH=3
TZNAME:CEST
TZOFFSETFROM:+0100
TZOFFSETTO:+0200
END:DAYLIGHT
BEGIN:STANDARD
DTSTART:19701025T030000
RRULE:FREQ=YEARLY;BYDAY=-1SU;BYMONTH=10
TZNAME:CET
TZOFFSETFROM:+0200
TZOFFSETTO:+0100
END:STANDARD
END:VTIMEZONE
END:VCALENDAR
