BEGIN:VCALENDAR
VERSION:2.0
PRODID:-//destination.one//NONSGML destination.meta API//DE
X-WR-CALDESC:A calendar powered by destination.meta
X-WR-CALNAME:mittelweser-tourismus Kalender via destination.meta
BEGIN:VEVENT
CATEGORIES:Familien/Kinder sonstige
CATEGORIES:Familie
DESCRIPTION:Flausch wohnt im Baumhaus und will sich seinen neuen Freunden\,
  den Tieren vorstellen. Dabei ist gar nicht so richtig klar\, was oder wer
  Flausch ist. Die anderen begreifen nach Flausch´s Erklärung\, was wirklic
 h wichtig ist. Im Anschluss gibt es eine Bastelaktion.\n\nmehr Information
 en unter http://pages.destination.one/de/mittelweser-tourismus/streaming/d
 etail/Event/e_101187870/bilderbuchkino-flausch
DTEND;TZID=Europe/Berlin:20260601T164500
DTSTAMP:20260421T102522Z
DTSTART;TZID=Europe/Berlin:20260601T160000
GEO:52.474516;9.227383
LOCATION:Stadtbücherei Rehburg-Loccum\, Heidtorstr. 3\, Rehburg-Loccum
ORGANIZER;CN=Stadtbücherei Rehburg-Loccum:mailto:stadtbuecherei@rehburg-loc
 cum.de
SEQUENCE:0
SUMMARY:Bilderbuchkino „Flausch“
UID:e_101187870_iv0
URL:http://pages.destination.one/de/mittelweser-tourismus/streaming/detail/
 Event/e_101187870/bilderbuchkino-flausch
END:VEVENT
BEGIN:VTIMEZONE
TZID:Europe/Berlin
X-LIC-LOCATION:Europe/Berlin
BEGIN:DAYLIGHT
DTSTART:19700329T020000
RRULE:FREQ=YEARLY;BYDAY=-1SU;BYMONTH=3
TZNAME:CEST
TZOFFSETFROM:+0100
TZOFFSETTO:+0200
END:DAYLIGHT
BEGIN:STANDARD
DTSTART:19701025T030000
RRULE:FREQ=YEARLY;BYDAY=-1SU;BYMONTH=10
TZNAME:CET
TZOFFSETFROM:+0200
TZOFFSETTO:+0100
END:STANDARD
END:VTIMEZONE
END:VCALENDAR
