BEGIN:VCALENDAR
VERSION:2.0
PRODID:-//destination.one//NONSGML destination.meta API//DE
X-WR-CALDESC:A calendar powered by destination.meta
X-WR-CALNAME:mittelweser-tourismus Kalender via destination.meta
BEGIN:VEVENT
CATEGORIES:Familien/Kinder sonstige
CATEGORIES:... zu Fuß
CATEGORIES:Führung
DESCRIPTION:Es war einmal...\, tauchen Sie ein in die Märchenwelt der Brüde
 r Grimm. Lassen Sie sich verzaubern und genießen Sie die märchenhafte Atmo
 sphäre entlang von verwunschenen Wegen. Kosten: 5 € p.P. /erm. 3 € p.P.\, 
 Kinder 6-12 Jahre 3 €\n\nmehr Informationen unter http://pages.destination
 .one/de/mittelweser-tourismus/streaming/detail/Event/e_101186585/m-rchensp
 aziergang-in-den-rehburger-bergen-es-war-einmal-zauberhafte-m-rchen-der-br
 -der-grimm
DTEND;TZID=Europe/Berlin:20260613T163000
DTSTAMP:20260421T115619Z
DTSTART;TZID=Europe/Berlin:20260613T150000
GEO:52.437840;9.214847
LOCATION:Stadt Rehburg-Loccum Touristinformation\, Fr.-Stolberg-Allee 4\, R
 ehburg-Loccum
ORGANIZER;CN=Stadt Rehburg-Loccum Touristinformation:mailto:touristinfo@reh
 burg-loccum.de
SEQUENCE:0
SUMMARY:Märchenspaziergang in den Rehburger Bergen "Es war einmal\,..... za
 uberhafte Märchen der Brüder Grimm!“
UID:e_101186585_iv0
URL:http://pages.destination.one/de/mittelweser-tourismus/streaming/detail/
 Event/e_101186585/m-rchenspaziergang-in-den-rehburger-bergen-es-war-einmal
 -zauberhafte-m-rchen-der-br-der-grimm
END:VEVENT
BEGIN:VEVENT
CATEGORIES:Familien/Kinder sonstige
CATEGORIES:... zu Fuß
CATEGORIES:Führung
DESCRIPTION:Es war einmal...\, tauchen Sie ein in die Märchenwelt der Brüde
 r Grimm. Lassen Sie sich verzaubern und genießen Sie die märchenhafte Atmo
 sphäre entlang von verwunschenen Wegen. Kosten: 5 € p.P. /erm. 3 € p.P.\, 
 Kinder 6-12 Jahre 3 €\n\nmehr Informationen unter http://pages.destination
 .one/de/mittelweser-tourismus/streaming/detail/Event/e_101186585/m-rchensp
 aziergang-in-den-rehburger-bergen-es-war-einmal-zauberhafte-m-rchen-der-br
 -der-grimm
DTEND;TZID=Europe/Berlin:20260704T163000
DTSTAMP:20260421T115619Z
DTSTART;TZID=Europe/Berlin:20260704T150000
GEO:52.437840;9.214847
LOCATION:Stadt Rehburg-Loccum Touristinformation\, Fr.-Stolberg-Allee 4\, R
 ehburg-Loccum
ORGANIZER;CN=Stadt Rehburg-Loccum Touristinformation:mailto:touristinfo@reh
 burg-loccum.de
SEQUENCE:0
SUMMARY:Märchenspaziergang in den Rehburger Bergen "Es war einmal\,..... za
 uberhafte Märchen der Brüder Grimm!“
UID:e_101186585_iv1
URL:http://pages.destination.one/de/mittelweser-tourismus/streaming/detail/
 Event/e_101186585/m-rchenspaziergang-in-den-rehburger-bergen-es-war-einmal
 -zauberhafte-m-rchen-der-br-der-grimm
END:VEVENT
BEGIN:VEVENT
CATEGORIES:Familien/Kinder sonstige
CATEGORIES:... zu Fuß
CATEGORIES:Führung
DESCRIPTION:Es war einmal...\, tauchen Sie ein in die Märchenwelt der Brüde
 r Grimm. Lassen Sie sich verzaubern und genießen Sie die märchenhafte Atmo
 sphäre entlang von verwunschenen Wegen. Kosten: 5 € p.P. /erm. 3 € p.P.\, 
 Kinder 6-12 Jahre 3 €\n\nmehr Informationen unter http://pages.destination
 .one/de/mittelweser-tourismus/streaming/detail/Event/e_101186585/m-rchensp
 aziergang-in-den-rehburger-bergen-es-war-einmal-zauberhafte-m-rchen-der-br
 -der-grimm
DTEND;TZID=Europe/Berlin:20261010T163000
DTSTAMP:20260421T115619Z
DTSTART;TZID=Europe/Berlin:20261010T150000
GEO:52.437840;9.214847
LOCATION:Stadt Rehburg-Loccum Touristinformation\, Fr.-Stolberg-Allee 4\, R
 ehburg-Loccum
ORGANIZER;CN=Stadt Rehburg-Loccum Touristinformation:mailto:touristinfo@reh
 burg-loccum.de
SEQUENCE:0
SUMMARY:Märchenspaziergang in den Rehburger Bergen "Es war einmal\,..... za
 uberhafte Märchen der Brüder Grimm!“
UID:e_101186585_iv2
URL:http://pages.destination.one/de/mittelweser-tourismus/streaming/detail/
 Event/e_101186585/m-rchenspaziergang-in-den-rehburger-bergen-es-war-einmal
 -zauberhafte-m-rchen-der-br-der-grimm
END:VEVENT
BEGIN:VTIMEZONE
TZID:Europe/Berlin
X-LIC-LOCATION:Europe/Berlin
BEGIN:DAYLIGHT
DTSTART:19700329T020000
RRULE:FREQ=YEARLY;BYDAY=-1SU;BYMONTH=3
TZNAME:CEST
TZOFFSETFROM:+0100
TZOFFSETTO:+0200
END:DAYLIGHT
BEGIN:STANDARD
DTSTART:19701025T030000
RRULE:FREQ=YEARLY;BYDAY=-1SU;BYMONTH=10
TZNAME:CET
TZOFFSETFROM:+0200
TZOFFSETTO:+0100
END:STANDARD
END:VTIMEZONE
END:VCALENDAR
