BEGIN:VCALENDAR
VERSION:2.0
PRODID:-//destination.one//NONSGML destination.meta API//DE
X-WR-CALDESC:A calendar powered by destination.meta
X-WR-CALNAME:mittelweser-tourismus Kalender via destination.meta
BEGIN:VEVENT
CATEGORIES:... zu Fuß
CATEGORIES:Historische Führung
DESCRIPTION:Zur Blütezeit des Königlichen Kurbades gehöre das Promenieren i
 n den Wäldern um Bad Rehburg zu einem Kuraufenthalt dazu. Der hannoversche
 n Aristokratie\, die gerne den Ort besuchte\, ist es zu verdanken\, dass d
 ort kunstvoll gestaltete Wege angelegt wurden.\nBei einem Promenadenspazie
 rgang wandeln Sie entlang an historischen Ruheplätzen und erfahren einiges
  über die Angehörigen des Welfenhauses denen die Plätze gewidmet sind.\nGe
 nießen Sie die Natur entlang der idyllischen Waldwege und die schönen Ausb
 licke auf das Steinhuder Meer.\n \nTeilnehmerzahl mind. 2 Personen und max
 . 20 Personen\nUm Anmeldung bei der Tourist-Information wird gebeten!\n \n
 Kurzentschlossene können bei der Tourist-Information nachfragen und hinzuk
 ommen.\nNatürlich kann der Promenadenspaziergang auch zu gesonderten Zeite
 n gebucht werden.\nFestes Schuhwerk wird empfohlen!\n\nmehr Informationen 
 unter http://pages.destination.one/de/mittelweser-tourismus/streaming/deta
 il/Event/e_101185278/promenadenspaziergang-auf-den-spuren-der-k-niglichen-
 familie-in-der-zeit-der-romantik
DTEND;TZID=Europe/Berlin:20260503T163000
DTSTAMP:20260421T094745Z
DTSTART;TZID=Europe/Berlin:20260503T150000
GEO:52.437176;9.215212
LOCATION:Wandelhalle Romantik\, Friedrich-Stolberg-Allee 4\, Rehburg-Loccum
ORGANIZER;CN=Stadt Rehburg-Loccum Touristinformation:mailto:touristinfo@reh
 burg-loccum.de
SEQUENCE:0
SUMMARY:Promenadenspaziergang- „Auf den Spuren der Königlichen Familie in d
 er Zeit der Romantik!“
UID:e_101185278_iv0
URL:http://pages.destination.one/de/mittelweser-tourismus/streaming/detail/
 Event/e_101185278/promenadenspaziergang-auf-den-spuren-der-k-niglichen-fam
 ilie-in-der-zeit-der-romantik
END:VEVENT
BEGIN:VEVENT
CATEGORIES:... zu Fuß
CATEGORIES:Historische Führung
DESCRIPTION:Zur Blütezeit des Königlichen Kurbades gehöre das Promenieren i
 n den Wäldern um Bad Rehburg zu einem Kuraufenthalt dazu. Der hannoversche
 n Aristokratie\, die gerne den Ort besuchte\, ist es zu verdanken\, dass d
 ort kunstvoll gestaltete Wege angelegt wurden.\nBei einem Promenadenspazie
 rgang wandeln Sie entlang an historischen Ruheplätzen und erfahren einiges
  über die Angehörigen des Welfenhauses denen die Plätze gewidmet sind.\nGe
 nießen Sie die Natur entlang der idyllischen Waldwege und die schönen Ausb
 licke auf das Steinhuder Meer.\n \nTeilnehmerzahl mind. 2 Personen und max
 . 20 Personen\nUm Anmeldung bei der Tourist-Information wird gebeten!\n \n
 Kurzentschlossene können bei der Tourist-Information nachfragen und hinzuk
 ommen.\nNatürlich kann der Promenadenspaziergang auch zu gesonderten Zeite
 n gebucht werden.\nFestes Schuhwerk wird empfohlen!\n\nmehr Informationen 
 unter http://pages.destination.one/de/mittelweser-tourismus/streaming/deta
 il/Event/e_101185278/promenadenspaziergang-auf-den-spuren-der-k-niglichen-
 familie-in-der-zeit-der-romantik
DTEND;TZID=Europe/Berlin:20260517T163000
DTSTAMP:20260421T094745Z
DTSTART;TZID=Europe/Berlin:20260517T150000
GEO:52.437176;9.215212
LOCATION:Wandelhalle Romantik\, Friedrich-Stolberg-Allee 4\, Rehburg-Loccum
ORGANIZER;CN=Stadt Rehburg-Loccum Touristinformation:mailto:touristinfo@reh
 burg-loccum.de
SEQUENCE:0
SUMMARY:Promenadenspaziergang- „Auf den Spuren der Königlichen Familie in d
 er Zeit der Romantik!“
UID:e_101185278_iv1
URL:http://pages.destination.one/de/mittelweser-tourismus/streaming/detail/
 Event/e_101185278/promenadenspaziergang-auf-den-spuren-der-k-niglichen-fam
 ilie-in-der-zeit-der-romantik
END:VEVENT
BEGIN:VEVENT
CATEGORIES:... zu Fuß
CATEGORIES:Historische Führung
DESCRIPTION:Zur Blütezeit des Königlichen Kurbades gehöre das Promenieren i
 n den Wäldern um Bad Rehburg zu einem Kuraufenthalt dazu. Der hannoversche
 n Aristokratie\, die gerne den Ort besuchte\, ist es zu verdanken\, dass d
 ort kunstvoll gestaltete Wege angelegt wurden.\nBei einem Promenadenspazie
 rgang wandeln Sie entlang an historischen Ruheplätzen und erfahren einiges
  über die Angehörigen des Welfenhauses denen die Plätze gewidmet sind.\nGe
 nießen Sie die Natur entlang der idyllischen Waldwege und die schönen Ausb
 licke auf das Steinhuder Meer.\n \nTeilnehmerzahl mind. 2 Personen und max
 . 20 Personen\nUm Anmeldung bei der Tourist-Information wird gebeten!\n \n
 Kurzentschlossene können bei der Tourist-Information nachfragen und hinzuk
 ommen.\nNatürlich kann der Promenadenspaziergang auch zu gesonderten Zeite
 n gebucht werden.\nFestes Schuhwerk wird empfohlen!\n\nmehr Informationen 
 unter http://pages.destination.one/de/mittelweser-tourismus/streaming/deta
 il/Event/e_101185278/promenadenspaziergang-auf-den-spuren-der-k-niglichen-
 familie-in-der-zeit-der-romantik
DTEND;TZID=Europe/Berlin:20260726T163000
DTSTAMP:20260421T094745Z
DTSTART;TZID=Europe/Berlin:20260726T150000
GEO:52.437176;9.215212
LOCATION:Wandelhalle Romantik\, Friedrich-Stolberg-Allee 4\, Rehburg-Loccum
ORGANIZER;CN=Stadt Rehburg-Loccum Touristinformation:mailto:touristinfo@reh
 burg-loccum.de
SEQUENCE:0
SUMMARY:Promenadenspaziergang- „Auf den Spuren der Königlichen Familie in d
 er Zeit der Romantik!“
UID:e_101185278_iv2
URL:http://pages.destination.one/de/mittelweser-tourismus/streaming/detail/
 Event/e_101185278/promenadenspaziergang-auf-den-spuren-der-k-niglichen-fam
 ilie-in-der-zeit-der-romantik
END:VEVENT
BEGIN:VEVENT
CATEGORIES:... zu Fuß
CATEGORIES:Historische Führung
DESCRIPTION:Zur Blütezeit des Königlichen Kurbades gehöre das Promenieren i
 n den Wäldern um Bad Rehburg zu einem Kuraufenthalt dazu. Der hannoversche
 n Aristokratie\, die gerne den Ort besuchte\, ist es zu verdanken\, dass d
 ort kunstvoll gestaltete Wege angelegt wurden.\nBei einem Promenadenspazie
 rgang wandeln Sie entlang an historischen Ruheplätzen und erfahren einiges
  über die Angehörigen des Welfenhauses denen die Plätze gewidmet sind.\nGe
 nießen Sie die Natur entlang der idyllischen Waldwege und die schönen Ausb
 licke auf das Steinhuder Meer.\n \nTeilnehmerzahl mind. 2 Personen und max
 . 20 Personen\nUm Anmeldung bei der Tourist-Information wird gebeten!\n \n
 Kurzentschlossene können bei der Tourist-Information nachfragen und hinzuk
 ommen.\nNatürlich kann der Promenadenspaziergang auch zu gesonderten Zeite
 n gebucht werden.\nFestes Schuhwerk wird empfohlen!\n\nmehr Informationen 
 unter http://pages.destination.one/de/mittelweser-tourismus/streaming/deta
 il/Event/e_101185278/promenadenspaziergang-auf-den-spuren-der-k-niglichen-
 familie-in-der-zeit-der-romantik
DTEND;TZID=Europe/Berlin:20260927T163000
DTSTAMP:20260421T094745Z
DTSTART;TZID=Europe/Berlin:20260927T150000
GEO:52.437176;9.215212
LOCATION:Wandelhalle Romantik\, Friedrich-Stolberg-Allee 4\, Rehburg-Loccum
ORGANIZER;CN=Stadt Rehburg-Loccum Touristinformation:mailto:touristinfo@reh
 burg-loccum.de
SEQUENCE:0
SUMMARY:Promenadenspaziergang- „Auf den Spuren der Königlichen Familie in d
 er Zeit der Romantik!“
UID:e_101185278_iv3
URL:http://pages.destination.one/de/mittelweser-tourismus/streaming/detail/
 Event/e_101185278/promenadenspaziergang-auf-den-spuren-der-k-niglichen-fam
 ilie-in-der-zeit-der-romantik
END:VEVENT
BEGIN:VEVENT
CATEGORIES:... zu Fuß
CATEGORIES:Historische Führung
DESCRIPTION:Zur Blütezeit des Königlichen Kurbades gehöre das Promenieren i
 n den Wäldern um Bad Rehburg zu einem Kuraufenthalt dazu. Der hannoversche
 n Aristokratie\, die gerne den Ort besuchte\, ist es zu verdanken\, dass d
 ort kunstvoll gestaltete Wege angelegt wurden.\nBei einem Promenadenspazie
 rgang wandeln Sie entlang an historischen Ruheplätzen und erfahren einiges
  über die Angehörigen des Welfenhauses denen die Plätze gewidmet sind.\nGe
 nießen Sie die Natur entlang der idyllischen Waldwege und die schönen Ausb
 licke auf das Steinhuder Meer.\n \nTeilnehmerzahl mind. 2 Personen und max
 . 20 Personen\nUm Anmeldung bei der Tourist-Information wird gebeten!\n \n
 Kurzentschlossene können bei der Tourist-Information nachfragen und hinzuk
 ommen.\nNatürlich kann der Promenadenspaziergang auch zu gesonderten Zeite
 n gebucht werden.\nFestes Schuhwerk wird empfohlen!\n\nmehr Informationen 
 unter http://pages.destination.one/de/mittelweser-tourismus/streaming/deta
 il/Event/e_101185278/promenadenspaziergang-auf-den-spuren-der-k-niglichen-
 familie-in-der-zeit-der-romantik
DTEND;TZID=Europe/Berlin:20261004T163000
DTSTAMP:20260421T094745Z
DTSTART;TZID=Europe/Berlin:20261004T150000
GEO:52.437176;9.215212
LOCATION:Wandelhalle Romantik\, Friedrich-Stolberg-Allee 4\, Rehburg-Loccum
ORGANIZER;CN=Stadt Rehburg-Loccum Touristinformation:mailto:touristinfo@reh
 burg-loccum.de
SEQUENCE:0
SUMMARY:Promenadenspaziergang- „Auf den Spuren der Königlichen Familie in d
 er Zeit der Romantik!“
UID:e_101185278_iv4
URL:http://pages.destination.one/de/mittelweser-tourismus/streaming/detail/
 Event/e_101185278/promenadenspaziergang-auf-den-spuren-der-k-niglichen-fam
 ilie-in-der-zeit-der-romantik
END:VEVENT
BEGIN:VTIMEZONE
TZID:Europe/Berlin
X-LIC-LOCATION:Europe/Berlin
BEGIN:DAYLIGHT
DTSTART:19700329T020000
RRULE:FREQ=YEARLY;BYDAY=-1SU;BYMONTH=3
TZNAME:CEST
TZOFFSETFROM:+0100
TZOFFSETTO:+0200
END:DAYLIGHT
BEGIN:STANDARD
DTSTART:19701025T030000
RRULE:FREQ=YEARLY;BYDAY=-1SU;BYMONTH=10
TZNAME:CET
TZOFFSETFROM:+0200
TZOFFSETTO:+0100
END:STANDARD
END:VTIMEZONE
END:VCALENDAR
