BEGIN:VCALENDAR
VERSION:2.0
PRODID:-//destination.one//NONSGML destination.meta API//DE
X-WR-CALDESC:A calendar powered by destination.meta
X-WR-CALNAME:mittelweser-tourismus Kalender via destination.meta
BEGIN:VEVENT
CATEGORIES:Geführter Rundgang
CATEGORIES:Besichtigung & Führung sonstige
CATEGORIES:Historische Führung
DESCRIPTION:Anni\, Wirtin des „Raths-Kellers“ im Jahre 1912\, mag Butterkuc
 hen\, ihren Klaas und ihr „Rehburg“. Sie kennt allerlei Geschichten\, die 
 um das Städtchen ranken und erzählt diese frei heraus. Kosten: 5 € p.P. /e
 rm. 3 € p.P.\n\nmehr Informationen unter http://pages.destination.one/de/m
 ittelweser-tourismus/streaming/detail/Event/e_100976215/zuckerb-ckers-lieb
 ling
DTEND;TZID=Europe/Berlin:20250608T163000
DTSTAMP:20260421T095613Z
DTSTART;TZID=Europe/Berlin:20250608T150000
GEO:52.474717;9.229782
LOCATION:Rehburg\, Auf der Bleiche 2\, Rehburg-Loccum
ORGANIZER;CN=Stadt Rehburg-Loccum Touristinformation:mailto:touristinfo@reh
 burg-loccum.de
SEQUENCE:0
SUMMARY:"Zuckerbäckers Liebling"
UID:e_100976215_iv0
URL:http://pages.destination.one/de/mittelweser-tourismus/streaming/detail/
 Event/e_100976215/zuckerb-ckers-liebling
END:VEVENT
BEGIN:VEVENT
CATEGORIES:Geführter Rundgang
CATEGORIES:Besichtigung & Führung sonstige
CATEGORIES:Historische Führung
DESCRIPTION:Anni\, Wirtin des „Raths-Kellers“ im Jahre 1912\, mag Butterkuc
 hen\, ihren Klaas und ihr „Rehburg“. Sie kennt allerlei Geschichten\, die 
 um das Städtchen ranken und erzählt diese frei heraus. Kosten: 5 € p.P. /e
 rm. 3 € p.P.\n\nmehr Informationen unter http://pages.destination.one/de/m
 ittelweser-tourismus/streaming/detail/Event/e_100976215/zuckerb-ckers-lieb
 ling
DTEND;TZID=Europe/Berlin:20250706T163000
DTSTAMP:20260421T095613Z
DTSTART;TZID=Europe/Berlin:20250706T150000
GEO:52.474717;9.229782
LOCATION:Rehburg\, Auf der Bleiche 2\, Rehburg-Loccum
ORGANIZER;CN=Stadt Rehburg-Loccum Touristinformation:mailto:touristinfo@reh
 burg-loccum.de
SEQUENCE:0
SUMMARY:"Zuckerbäckers Liebling"
UID:e_100976215_iv1
URL:http://pages.destination.one/de/mittelweser-tourismus/streaming/detail/
 Event/e_100976215/zuckerb-ckers-liebling
END:VEVENT
BEGIN:VEVENT
CATEGORIES:Geführter Rundgang
CATEGORIES:Besichtigung & Führung sonstige
CATEGORIES:Historische Führung
DESCRIPTION:Anni\, Wirtin des „Raths-Kellers“ im Jahre 1912\, mag Butterkuc
 hen\, ihren Klaas und ihr „Rehburg“. Sie kennt allerlei Geschichten\, die 
 um das Städtchen ranken und erzählt diese frei heraus. Kosten: 5 € p.P. /e
 rm. 3 € p.P.\n\nmehr Informationen unter http://pages.destination.one/de/m
 ittelweser-tourismus/streaming/detail/Event/e_100976215/zuckerb-ckers-lieb
 ling
DTEND;TZID=Europe/Berlin:20250914T163000
DTSTAMP:20260421T095613Z
DTSTART;TZID=Europe/Berlin:20250914T150000
GEO:52.474717;9.229782
LOCATION:Rehburg\, Auf der Bleiche 2\, Rehburg-Loccum
ORGANIZER;CN=Stadt Rehburg-Loccum Touristinformation:mailto:touristinfo@reh
 burg-loccum.de
SEQUENCE:0
SUMMARY:"Zuckerbäckers Liebling"
UID:e_100976215_iv2
URL:http://pages.destination.one/de/mittelweser-tourismus/streaming/detail/
 Event/e_100976215/zuckerb-ckers-liebling
END:VEVENT
BEGIN:VEVENT
CATEGORIES:Geführter Rundgang
CATEGORIES:Besichtigung & Führung sonstige
CATEGORIES:Historische Führung
DESCRIPTION:Anni\, Wirtin des „Raths-Kellers“ im Jahre 1912\, mag Butterkuc
 hen\, ihren Klaas und ihr „Rehburg“. Sie kennt allerlei Geschichten\, die 
 um das Städtchen ranken und erzählt diese frei heraus. Kosten: 5 € p.P. /e
 rm. 3 € p.P.\n\nmehr Informationen unter http://pages.destination.one/de/m
 ittelweser-tourismus/streaming/detail/Event/e_100976215/zuckerb-ckers-lieb
 ling
DTEND;TZID=Europe/Berlin:20260705T163000
DTSTAMP:20260421T095613Z
DTSTART;TZID=Europe/Berlin:20260705T150000
GEO:52.474717;9.229782
LOCATION:Rehburg\, Auf der Bleiche 2\, Rehburg-Loccum
ORGANIZER;CN=Stadt Rehburg-Loccum Touristinformation:mailto:touristinfo@reh
 burg-loccum.de
SEQUENCE:0
SUMMARY:"Zuckerbäckers Liebling"
UID:e_100976215_iv3
URL:http://pages.destination.one/de/mittelweser-tourismus/streaming/detail/
 Event/e_100976215/zuckerb-ckers-liebling
END:VEVENT
BEGIN:VEVENT
CATEGORIES:Geführter Rundgang
CATEGORIES:Besichtigung & Führung sonstige
CATEGORIES:Historische Führung
DESCRIPTION:Anni\, Wirtin des „Raths-Kellers“ im Jahre 1912\, mag Butterkuc
 hen\, ihren Klaas und ihr „Rehburg“. Sie kennt allerlei Geschichten\, die 
 um das Städtchen ranken und erzählt diese frei heraus. Kosten: 5 € p.P. /e
 rm. 3 € p.P.\n\nmehr Informationen unter http://pages.destination.one/de/m
 ittelweser-tourismus/streaming/detail/Event/e_100976215/zuckerb-ckers-lieb
 ling
DTEND;TZID=Europe/Berlin:20261011T163000
DTSTAMP:20260421T095613Z
DTSTART;TZID=Europe/Berlin:20261011T150000
GEO:52.474717;9.229782
LOCATION:Rehburg\, Auf der Bleiche 2\, Rehburg-Loccum
ORGANIZER;CN=Stadt Rehburg-Loccum Touristinformation:mailto:touristinfo@reh
 burg-loccum.de
SEQUENCE:0
SUMMARY:"Zuckerbäckers Liebling"
UID:e_100976215_iv4
URL:http://pages.destination.one/de/mittelweser-tourismus/streaming/detail/
 Event/e_100976215/zuckerb-ckers-liebling
END:VEVENT
BEGIN:VTIMEZONE
TZID:Europe/Berlin
X-LIC-LOCATION:Europe/Berlin
BEGIN:DAYLIGHT
DTSTART:19700329T020000
RRULE:FREQ=YEARLY;BYDAY=-1SU;BYMONTH=3
TZNAME:CEST
TZOFFSETFROM:+0100
TZOFFSETTO:+0200
END:DAYLIGHT
BEGIN:STANDARD
DTSTART:19701025T030000
RRULE:FREQ=YEARLY;BYDAY=-1SU;BYMONTH=10
TZNAME:CET
TZOFFSETFROM:+0200
TZOFFSETTO:+0100
END:STANDARD
END:VTIMEZONE
END:VCALENDAR
