BEGIN:VCALENDAR
VERSION:2.0
PRODID:-//destination.one//NONSGML destination.meta API//DE
X-WR-CALDESC:A calendar powered by destination.meta
X-WR-CALNAME:mittelweser-tourismus Kalender via destination.meta
BEGIN:VEVENT
CATEGORIES:Begegnungsangebote
DESCRIPTION:Besuchen Sie die Klosterstube Loccum\n\nmehr Informationen unte
 r http://pages.destination.one/de/mittelweser-tourismus/streaming/detail/E
 vent/e_100594263/klosterstube
DTEND;TZID=Europe/Berlin:20230506T170000
DTSTAMP:20260421T095809Z
DTSTART;TZID=Europe/Berlin:20230506T140000
GEO:52.451982;9.150367
LOCATION:Klosterstube Loccum\, Kloster 2\, Rehburg-Loccum
ORGANIZER;CN=Klosterstube Loccum:mailto:info@klosterstube-loccum.de
RRULE:FREQ=WEEKLY;UNTIL=20231223T160000;BYDAY=SA,SU
SEQUENCE:0
SUMMARY:Klosterstube
UID:e_100594263_iv0
URL:http://pages.destination.one/de/mittelweser-tourismus/streaming/detail/
 Event/e_100594263/klosterstube
END:VEVENT
BEGIN:VEVENT
CATEGORIES:Begegnungsangebote
DESCRIPTION:Besuchen Sie die Klosterstube Loccum\n\nmehr Informationen unte
 r http://pages.destination.one/de/mittelweser-tourismus/streaming/detail/E
 vent/e_100594263/klosterstube
DTEND;TZID=Europe/Berlin:20250222T170000
DTSTAMP:20260421T095809Z
DTSTART;TZID=Europe/Berlin:20250222T140000
GEO:52.451982;9.150367
LOCATION:Klosterstube Loccum\, Kloster 2\, Rehburg-Loccum
ORGANIZER;CN=Klosterstube Loccum:mailto:info@klosterstube-loccum.de
RRULE:FREQ=WEEKLY;UNTIL=20250802T120000;BYDAY=SA,SU
SEQUENCE:0
SUMMARY:Klosterstube
UID:e_100594263_iv1
URL:http://pages.destination.one/de/mittelweser-tourismus/streaming/detail/
 Event/e_100594263/klosterstube
END:VEVENT
BEGIN:VEVENT
CATEGORIES:Begegnungsangebote
DESCRIPTION:Besuchen Sie die Klosterstube Loccum\n\nmehr Informationen unte
 r http://pages.destination.one/de/mittelweser-tourismus/streaming/detail/E
 vent/e_100594263/klosterstube
DTEND;TZID=Europe/Berlin:20250803T170000
DTSTAMP:20260421T095809Z
DTSTART;TZID=Europe/Berlin:20250803T110000
GEO:52.451982;9.150367
LOCATION:Klosterstube Loccum\, Kloster 2\, Rehburg-Loccum
ORGANIZER;CN=Klosterstube Loccum:mailto:info@klosterstube-loccum.de
RRULE:FREQ=WEEKLY;UNTIL=20251221T160000;BYDAY=SU
SEQUENCE:0
SUMMARY:Klosterstube
UID:e_100594263_iv2
URL:http://pages.destination.one/de/mittelweser-tourismus/streaming/detail/
 Event/e_100594263/klosterstube
END:VEVENT
BEGIN:VEVENT
CATEGORIES:Begegnungsangebote
DESCRIPTION:Besuchen Sie die Klosterstube Loccum\n\nmehr Informationen unte
 r http://pages.destination.one/de/mittelweser-tourismus/streaming/detail/E
 vent/e_100594263/klosterstube
DTEND;TZID=Europe/Berlin:20250803T170000
DTSTAMP:20260421T095809Z
DTSTART;TZID=Europe/Berlin:20250803T140000
GEO:52.451982;9.150367
LOCATION:Klosterstube Loccum\, Kloster 2\, Rehburg-Loccum
ORGANIZER;CN=Klosterstube Loccum:mailto:info@klosterstube-loccum.de
RRULE:FREQ=WEEKLY;UNTIL=20251221T160000;BYDAY=SA
SEQUENCE:0
SUMMARY:Klosterstube
UID:e_100594263_iv3
URL:http://pages.destination.one/de/mittelweser-tourismus/streaming/detail/
 Event/e_100594263/klosterstube
END:VEVENT
BEGIN:VEVENT
CATEGORIES:Begegnungsangebote
DESCRIPTION:Besuchen Sie die Klosterstube Loccum\n\nmehr Informationen unte
 r http://pages.destination.one/de/mittelweser-tourismus/streaming/detail/E
 vent/e_100594263/klosterstube
DTEND;TZID=Europe/Berlin:20260314T170000
DTSTAMP:20260421T095809Z
DTSTART;TZID=Europe/Berlin:20260314T140000
GEO:52.451982;9.150367
LOCATION:Klosterstube Loccum\, Kloster 2\, Rehburg-Loccum
ORGANIZER;CN=Klosterstube Loccum:mailto:info@klosterstube-loccum.de
RRULE:FREQ=WEEKLY;UNTIL=20261220T160000;BYDAY=SA
SEQUENCE:0
SUMMARY:Klosterstube
UID:e_100594263_iv4
URL:http://pages.destination.one/de/mittelweser-tourismus/streaming/detail/
 Event/e_100594263/klosterstube
END:VEVENT
BEGIN:VEVENT
CATEGORIES:Begegnungsangebote
DESCRIPTION:Besuchen Sie die Klosterstube Loccum\n\nmehr Informationen unte
 r http://pages.destination.one/de/mittelweser-tourismus/streaming/detail/E
 vent/e_100594263/klosterstube
DTEND;TZID=Europe/Berlin:20260315T170000
DTSTAMP:20260421T095809Z
DTSTART;TZID=Europe/Berlin:20260315T110000
GEO:52.451982;9.150367
LOCATION:Klosterstube Loccum\, Kloster 2\, Rehburg-Loccum
ORGANIZER;CN=Klosterstube Loccum:mailto:info@klosterstube-loccum.de
RRULE:FREQ=WEEKLY;UNTIL=20261220T160000;BYDAY=SU
SEQUENCE:0
SUMMARY:Klosterstube
UID:e_100594263_iv5
URL:http://pages.destination.one/de/mittelweser-tourismus/streaming/detail/
 Event/e_100594263/klosterstube
END:VEVENT
BEGIN:VTIMEZONE
TZID:Europe/Berlin
X-LIC-LOCATION:Europe/Berlin
BEGIN:DAYLIGHT
DTSTART:19700329T020000
RRULE:FREQ=YEARLY;BYDAY=-1SU;BYMONTH=3
TZNAME:CEST
TZOFFSETFROM:+0100
TZOFFSETTO:+0200
END:DAYLIGHT
BEGIN:STANDARD
DTSTART:19701025T030000
RRULE:FREQ=YEARLY;BYDAY=-1SU;BYMONTH=10
TZNAME:CET
TZOFFSETFROM:+0200
TZOFFSETTO:+0100
END:STANDARD
END:VTIMEZONE
END:VCALENDAR
