BEGIN:VCALENDAR
VERSION:2.0
PRODID:-//destination.one//NONSGML destination.meta API//DE
X-WR-CALDESC:A calendar powered by destination.meta
X-WR-CALNAME:mittelweser-tourismus Kalender via destination.meta
BEGIN:VEVENT
CATEGORIES:Stadtrundgang
DESCRIPTION:Mächtig wirkt der Kirchenraum des Mindener Doms schon bei Tages
 licht.\n\nmehr Informationen unter http://pages.destination.one/de/mittelw
 eser-tourismus/streaming/detail/Event/DF390BA0B6FB81B922B6A866FC9DC17F/dom
 -in-the-dark-taschenlampenf-hrung
DTEND;TZID=Europe/Berlin:20261103T203000
DTSTAMP:20260422T104155Z
DTSTART;TZID=Europe/Berlin:20261103T190000
GEO:0.000000;0.000000
LOCATION:\, Dom\, Kleiner Domhof\n32423 Minden\, Dom\, Kleiner Domhof
SEQUENCE:0
SUMMARY:Dom in the dark - Taschenlampenführung
UID:DF390BA0B6FB81B922B6A866FC9DC17F_iv0
URL:http://pages.destination.one/de/mittelweser-tourismus/streaming/detail/
 Event/DF390BA0B6FB81B922B6A866FC9DC17F/dom-in-the-dark-taschenlampenf-hrun
 g
END:VEVENT
BEGIN:VTIMEZONE
TZID:Europe/Berlin
X-LIC-LOCATION:Europe/Berlin
BEGIN:DAYLIGHT
DTSTART:19700329T020000
RRULE:FREQ=YEARLY;BYDAY=-1SU;BYMONTH=3
TZNAME:CEST
TZOFFSETFROM:+0100
TZOFFSETTO:+0200
END:DAYLIGHT
BEGIN:STANDARD
DTSTART:19701025T030000
RRULE:FREQ=YEARLY;BYDAY=-1SU;BYMONTH=10
TZNAME:CET
TZOFFSETFROM:+0200
TZOFFSETTO:+0100
END:STANDARD
END:VTIMEZONE
END:VCALENDAR
