BEGIN:VCALENDAR
VERSION:2.0
PRODID:-//destination.one//NONSGML destination.meta API//DE
X-WR-CALDESC:A calendar powered by destination.meta
X-WR-CALNAME:mittelweser-tourismus Kalender via destination.meta
BEGIN:VEVENT
CATEGORIES:Theater sonstige
CATEGORIES:Konzert
DESCRIPTION:Infotainment der Spitzenklasse mit Dr. Jan-Uwe Rogge und Matthi
 as Jung\n\nmehr Informationen unter http://pages.destination.one/de/mittel
 weser-tourismus/streaming/detail/Event/DA21250BE5DE32795B53886220458356/di
 e-pubert-ts-docs-chill-mal-pubert-t-loslassen-und-halt-geben
DTEND;TZID=Europe/Berlin:20270302T235959
DTSTAMP:20260421T112826Z
DTSTART;TZID=Europe/Berlin:20270302T193000
GEO:52.636003;9.205966
LOCATION:\,  \, 
SEQUENCE:0
SUMMARY:Die Pubertäts-Docs: Chill mal! Pubertät - Loslassen und Halt geben
UID:DA21250BE5DE32795B53886220458356_iv0
URL:http://pages.destination.one/de/mittelweser-tourismus/streaming/detail/
 Event/DA21250BE5DE32795B53886220458356/die-pubert-ts-docs-chill-mal-pubert
 -t-loslassen-und-halt-geben
END:VEVENT
BEGIN:VTIMEZONE
TZID:Europe/Berlin
X-LIC-LOCATION:Europe/Berlin
BEGIN:DAYLIGHT
DTSTART:19700329T020000
RRULE:FREQ=YEARLY;BYDAY=-1SU;BYMONTH=3
TZNAME:CEST
TZOFFSETFROM:+0100
TZOFFSETTO:+0200
END:DAYLIGHT
BEGIN:STANDARD
DTSTART:19701025T030000
RRULE:FREQ=YEARLY;BYDAY=-1SU;BYMONTH=10
TZNAME:CET
TZOFFSETFROM:+0200
TZOFFSETTO:+0100
END:STANDARD
END:VTIMEZONE
END:VCALENDAR
