BEGIN:VCALENDAR
VERSION:2.0
PRODID:-//destination.one//NONSGML destination.meta API//DE
X-WR-CALDESC:A calendar powered by destination.meta
X-WR-CALNAME:mittelweser-tourismus Kalender via destination.meta
BEGIN:VEVENT
CATEGORIES:Vereinsaktivität
CATEGORIES:Konzert
DESCRIPTION:Ticketverkauf für Haßbergen: Theaterkasse Nienburg\n\nmehr Info
 rmationen unter http://pages.destination.one/de/mittelweser-tourismus/stre
 aming/detail/Event/CDF9415416D612F192172612AED5BA60/kartenvorverkauf-f-r-h
 a-bergen-35-singing-pub
DTEND;TZID=Europe/Berlin:20260615T160000
DTSTAMP:20260422T143047Z
DTSTART;TZID=Europe/Berlin:20260615T090000
GEO:52.635958;9.205723
LOCATION:\, \, Alte Kapelle Haßbergen\, Kapellenstraße\, 31626 Haßbergen
SEQUENCE:0
SUMMARY:Kartenvorverkauf für Haßbergen - 35. Singing Pub
UID:CDF9415416D612F192172612AED5BA60_iv0
URL:http://pages.destination.one/de/mittelweser-tourismus/streaming/detail/
 Event/CDF9415416D612F192172612AED5BA60/kartenvorverkauf-f-r-ha-bergen-35-s
 inging-pub
END:VEVENT
BEGIN:VTIMEZONE
TZID:Europe/Berlin
X-LIC-LOCATION:Europe/Berlin
BEGIN:DAYLIGHT
DTSTART:19700329T020000
RRULE:FREQ=YEARLY;BYDAY=-1SU;BYMONTH=3
TZNAME:CEST
TZOFFSETFROM:+0100
TZOFFSETTO:+0200
END:DAYLIGHT
BEGIN:STANDARD
DTSTART:19701025T030000
RRULE:FREQ=YEARLY;BYDAY=-1SU;BYMONTH=10
TZNAME:CET
TZOFFSETFROM:+0200
TZOFFSETTO:+0100
END:STANDARD
END:VTIMEZONE
END:VCALENDAR
