BEGIN:VCALENDAR
VERSION:2.0
PRODID:-//destination.one//NONSGML destination.meta API//DE
X-WR-CALDESC:A calendar powered by destination.meta
X-WR-CALNAME:mittelweser-tourismus Kalender via destination.meta
BEGIN:VEVENT
CATEGORIES:Lesung
DESCRIPTION:OCEAN CHANGE Die Arktis – Eine Welt im Wandel\n\nmehr Informati
 onen unter http://pages.destination.one/de/mittelweser-tourismus/streaming
 /detail/Event/BC61986CF5C1EBC93674500431C86F52/bild-vortrag-des-polarforsc
 hers-und-autors-arved-fuchs
DTEND;TZID=Europe/Berlin:20261023T235959
DTSTAMP:20260421T094350Z
DTSTART;TZID=Europe/Berlin:20261023T200000
GEO:0.000000;0.000000
LOCATION:\, Braunschweiger Straße 1\n27321 Thedinghausen\, Schloss Erbhof
SEQUENCE:0
SUMMARY:Bild-Vortrag des Polarforschers und Autors Arved Fuchs
UID:BC61986CF5C1EBC93674500431C86F52_iv0
URL:http://pages.destination.one/de/mittelweser-tourismus/streaming/detail/
 Event/BC61986CF5C1EBC93674500431C86F52/bild-vortrag-des-polarforschers-und
 -autors-arved-fuchs
END:VEVENT
BEGIN:VTIMEZONE
TZID:Europe/Berlin
X-LIC-LOCATION:Europe/Berlin
BEGIN:DAYLIGHT
DTSTART:19700329T020000
RRULE:FREQ=YEARLY;BYDAY=-1SU;BYMONTH=3
TZNAME:CEST
TZOFFSETFROM:+0100
TZOFFSETTO:+0200
END:DAYLIGHT
BEGIN:STANDARD
DTSTART:19701025T030000
RRULE:FREQ=YEARLY;BYDAY=-1SU;BYMONTH=10
TZNAME:CET
TZOFFSETFROM:+0200
TZOFFSETTO:+0100
END:STANDARD
END:VTIMEZONE
END:VCALENDAR
