BEGIN:VCALENDAR
VERSION:2.0
PRODID:-//destination.one//NONSGML destination.meta API//DE
X-WR-CALDESC:A calendar powered by destination.meta
X-WR-CALNAME:mittelweser-tourismus Kalender via destination.meta
BEGIN:VEVENT
CATEGORIES:Konzert
DESCRIPTION:Hans H. Krückemeier & Bulli Grundmann sind... ZweiVomFeinsten m
 it Songklassikern von...\n\nmehr Informationen unter http://pages.destinat
 ion.one/de/mittelweser-tourismus/streaming/detail/Event/8EFD8DEC7534DD2513
 E4288059203BF4/ab-in-den-mai-zwei-vom-feinsten
DTEND;TZID=Europe/Berlin:20260430T220000
DTSTAMP:20260421T081702Z
DTSTART;TZID=Europe/Berlin:20260430T200000
GEO:0.000000;0.000000
LOCATION:\, Im Grund 4\n32469 Petershagen/Weser\, KulturCafè WindheimNo2
SEQUENCE:0
SUMMARY:...ab in den Mai: Zwei Vom Feinsten
UID:8EFD8DEC7534DD2513E4288059203BF4_iv0
URL:http://pages.destination.one/de/mittelweser-tourismus/streaming/detail/
 Event/8EFD8DEC7534DD2513E4288059203BF4/ab-in-den-mai-zwei-vom-feinsten
END:VEVENT
BEGIN:VTIMEZONE
TZID:Europe/Berlin
X-LIC-LOCATION:Europe/Berlin
BEGIN:DAYLIGHT
DTSTART:19700329T020000
RRULE:FREQ=YEARLY;BYDAY=-1SU;BYMONTH=3
TZNAME:CEST
TZOFFSETFROM:+0100
TZOFFSETTO:+0200
END:DAYLIGHT
BEGIN:STANDARD
DTSTART:19701025T030000
RRULE:FREQ=YEARLY;BYDAY=-1SU;BYMONTH=10
TZNAME:CET
TZOFFSETFROM:+0200
TZOFFSETTO:+0100
END:STANDARD
END:VTIMEZONE
END:VCALENDAR
