BEGIN:VCALENDAR
VERSION:2.0
PRODID:-//destination.one//NONSGML destination.meta API//DE
X-WR-CALDESC:A calendar powered by destination.meta
X-WR-CALNAME:mittelweser-tourismus Kalender via destination.meta
BEGIN:VEVENT
CATEGORIES:Stadtfest
DESCRIPTION:Kunsthandwerklicher Adventsmarkt am Schloss Erbhof in Thedingha
 usen\n\nmehr Informationen unter http://pages.destination.one/de/mittelwes
 er-tourismus/streaming/detail/Event/38D28D0B02C54A0E79A11166554E994A/weihn
 achten-auf-schloss-erbhof
DTEND;TZID=Europe/Berlin:20261212T180000
DTSTAMP:20260421T094350Z
DTSTART;TZID=Europe/Berlin:20261212T110000
GEO:0.000000;0.000000
LOCATION:\, Braunschweiger Straße 1\n27321 Thedinghausen\, Schloss Erbhof
SEQUENCE:0
SUMMARY:Weihnachten auf Schloss Erbhof
UID:38D28D0B02C54A0E79A11166554E994A_iv0
URL:http://pages.destination.one/de/mittelweser-tourismus/streaming/detail/
 Event/38D28D0B02C54A0E79A11166554E994A/weihnachten-auf-schloss-erbhof
END:VEVENT
BEGIN:VTIMEZONE
TZID:Europe/Berlin
X-LIC-LOCATION:Europe/Berlin
BEGIN:DAYLIGHT
DTSTART:19700329T020000
RRULE:FREQ=YEARLY;BYDAY=-1SU;BYMONTH=3
TZNAME:CEST
TZOFFSETFROM:+0100
TZOFFSETTO:+0200
END:DAYLIGHT
BEGIN:STANDARD
DTSTART:19701025T030000
RRULE:FREQ=YEARLY;BYDAY=-1SU;BYMONTH=10
TZNAME:CET
TZOFFSETFROM:+0200
TZOFFSETTO:+0100
END:STANDARD
END:VTIMEZONE
END:VCALENDAR
