BEGIN:VCALENDAR
VERSION:2.0
PRODID:-//destination.one//NONSGML destination.meta API//DE
X-WR-CALDESC:A calendar powered by destination.meta
X-WR-CALNAME:mittelweser-tourismus Kalender via destination.meta
BEGIN:VEVENT
CATEGORIES:Konzert
DESCRIPTION:Open Air-Konzert der Band Stone Washed auf der Bühne beim Schlo
 ss Erbhof. Tauchen Sie ein in die...\n\nmehr Informationen unter http://pa
 ges.destination.one/de/mittelweser-tourismus/streaming/detail/Event/187565
 86770556DD00E9E4E0871EBAD0/stone-washed-legends-of-rock
DTEND;TZID=Europe/Berlin:20260801T235959
DTSTAMP:20260421T094210Z
DTSTART;TZID=Europe/Berlin:20260801T200000
GEO:0.000000;0.000000
LOCATION:\, Braunschweiger Straße 1\n27321 Thedinghausen\, Schloss Erbhof
SEQUENCE:0
SUMMARY:Stone Washed- Legends of Rock
UID:18756586770556DD00E9E4E0871EBAD0_iv0
URL:http://pages.destination.one/de/mittelweser-tourismus/streaming/detail/
 Event/18756586770556DD00E9E4E0871EBAD0/stone-washed-legends-of-rock
END:VEVENT
BEGIN:VTIMEZONE
TZID:Europe/Berlin
X-LIC-LOCATION:Europe/Berlin
BEGIN:DAYLIGHT
DTSTART:19700329T020000
RRULE:FREQ=YEARLY;BYDAY=-1SU;BYMONTH=3
TZNAME:CEST
TZOFFSETFROM:+0100
TZOFFSETTO:+0200
END:DAYLIGHT
BEGIN:STANDARD
DTSTART:19701025T030000
RRULE:FREQ=YEARLY;BYDAY=-1SU;BYMONTH=10
TZNAME:CET
TZOFFSETFROM:+0200
TZOFFSETTO:+0100
END:STANDARD
END:VTIMEZONE
END:VCALENDAR
