BEGIN:VCALENDAR
VERSION:2.0
PRODID:-//destination.one//NONSGML destination.meta API//DE
X-WR-CALDESC:A calendar powered by destination.meta
X-WR-CALNAME:mittelweser-tourismus Kalender via destination.meta
BEGIN:VEVENT
CATEGORIES:Stadtrundgang
DESCRIPTION:\"Perle der Weserreanissance\"\n\nmehr Informationen unter http
 ://pages.destination.one/de/mittelweser-tourismus/streaming/detail/Event/1
 1A87DCF242B2B4E539119912FE16FB8/ffentliche-schlossf-hrung-schloss-erbhof
DTEND;TZID=Europe/Berlin:20260809T153000
DTSTAMP:20260421T094408Z
DTSTART;TZID=Europe/Berlin:20260809T143000
GEO:0.000000;0.000000
LOCATION:\, Braunschweiger Straße 1\n27321 Thedinghausen\, Schloss Erbhof
SEQUENCE:0
SUMMARY:Öffentliche Schlossführung Schloss Erbhof
UID:11A87DCF242B2B4E539119912FE16FB8_iv0
URL:http://pages.destination.one/de/mittelweser-tourismus/streaming/detail/
 Event/11A87DCF242B2B4E539119912FE16FB8/ffentliche-schlossf-hrung-schloss-e
 rbhof
END:VEVENT
BEGIN:VTIMEZONE
TZID:Europe/Berlin
X-LIC-LOCATION:Europe/Berlin
BEGIN:DAYLIGHT
DTSTART:19700329T020000
RRULE:FREQ=YEARLY;BYDAY=-1SU;BYMONTH=3
TZNAME:CEST
TZOFFSETFROM:+0100
TZOFFSETTO:+0200
END:DAYLIGHT
BEGIN:STANDARD
DTSTART:19701025T030000
RRULE:FREQ=YEARLY;BYDAY=-1SU;BYMONTH=10
TZNAME:CET
TZOFFSETFROM:+0200
TZOFFSETTO:+0100
END:STANDARD
END:VTIMEZONE
END:VCALENDAR
