BEGIN:VCALENDAR
VERSION:2.0
PRODID:-//destination.one//NONSGML destination.meta API//DE
X-WR-CALDESC:A calendar powered by destination.meta
X-WR-CALNAME:mittelweser-tourismus Kalender via destination.meta
BEGIN:VEVENT
CATEGORIES:Konzert
DESCRIPTION:›Wiener Schule‹ nennt man zum einen die Gruppe der klassischen 
 Komponisten um Joseph Haydn und...\n\nmehr Informationen unter http://page
 s.destination.one/de/mittelweser-tourismus/streaming/detail/Event/08F39E5B
 37CF4A04B9DF0CFDA42A45EC/streifzug-durch-wien-konzert-mit-der-deutschen-ka
 mmerphilharmonie-bremen
DTEND;TZID=Europe/Berlin:20260906T235959
DTSTAMP:20260421T114408Z
DTSTART;TZID=Europe/Berlin:20260906T160000
GEO:0.000000;0.000000
LOCATION:\, Braunschweiger Straße 1\n27321 Thedinghausen\, Schloss Erbhof
SEQUENCE:0
SUMMARY:Streifzug durch Wien – Konzert mit der deutschen Kammerphilharmonie
  Bremen
UID:08F39E5B37CF4A04B9DF0CFDA42A45EC_iv0
URL:http://pages.destination.one/de/mittelweser-tourismus/streaming/detail/
 Event/08F39E5B37CF4A04B9DF0CFDA42A45EC/streifzug-durch-wien-konzert-mit-de
 r-deutschen-kammerphilharmonie-bremen
END:VEVENT
BEGIN:VTIMEZONE
TZID:Europe/Berlin
X-LIC-LOCATION:Europe/Berlin
BEGIN:DAYLIGHT
DTSTART:19700329T020000
RRULE:FREQ=YEARLY;BYDAY=-1SU;BYMONTH=3
TZNAME:CEST
TZOFFSETFROM:+0100
TZOFFSETTO:+0200
END:DAYLIGHT
BEGIN:STANDARD
DTSTART:19701025T030000
RRULE:FREQ=YEARLY;BYDAY=-1SU;BYMONTH=10
TZNAME:CET
TZOFFSETFROM:+0200
TZOFFSETTO:+0100
END:STANDARD
END:VTIMEZONE
END:VCALENDAR
